BEGIN:VCALENDAR
VERSION:2.0
PRODID:-//eventon.com NONSGML v1.0//EN
CALSCALE:GREGORIAN
METHOD:PUBLISH
BEGIN:VEVENT
UID:69eb63df160ae
DTSTAMP:20260424T123647Z
DTSTART:20260510T150000Z
DTEND:20260510T190000Z
LOCATION:Omni Mount Wahington Resort 310 Mt. Washington Hotel Road\,  Bretton Woods\,  NH
SUMMARY:Mother's Day Brunch
DESCRIPTION:This Mother’s Day weekend\,  treat her to something truly spe
 cial. Our Mother’s Day Brunch starts at 11 AM – 3 PM in the Grand Ballr
 oom at the Omni Mount Washington Resort &amp; Spa. Reservations required. I
 n the Grand Ballroom Click here for full menu and to reserve space\nhttps:/
 /www.franconianotch.org/event-directory/mothers-day-brunch/
URL:https://www.franconianotch.org/event-directory/mothers-day-brunch/
END:VEVENT
END:VCALENDAR