BEGIN:VCALENDAR
VERSION:2.0
PRODID:-//eventon.com NONSGML v1.0//EN
CALSCALE:GREGORIAN
METHOD:PUBLISH
BEGIN:VEVENT
UID:69e5e21de0dbf
DTSTAMP:20260420T082149Z
DTSTART:20260328
DTEND:20260329
LOCATION:Bretton Woods Ski Area 99 Ski Area Road\,  Bretton Woods\,  NH
SUMMARY:Annual Spring Beach Party
DESCRIPTION:Bretton Woods Ski Area Let’s celebrate the end of a great sea
 son and splash our way into spring! Join us March 28\,  2026 for our annual
  Spring Beach Party. Spend the day enjoying some of our favorite beach acti
 vities including our annual pond skim competition. We will have a whole[..]
 \nhttps://www.franconianotch.org/event-directory/annual-spring-beach-party/
URL:https://www.franconianotch.org/event-directory/annual-spring-beach-party/
END:VEVENT
END:VCALENDAR