BEGIN:VCALENDAR
VERSION:2.0
PRODID:-//eventon.com NONSGML v1.0//EN
CALSCALE:GREGORIAN
METHOD:PUBLISH
BEGIN:VEVENT
UID:69e9f4c0c1be3
DTSTAMP:20260423T103024Z
DTSTART:20260222T000000Z
DTEND:20260222T013000Z
LOCATION:WREN 2011 Main Street
SUMMARY:The Art of Sound: Death by Gurdy
DESCRIPTION:This month’s event features Grammy Award–winning guitarist 
 Randy Roos and Noelle Kristen Beaudin on the hurdy-gurdy. With complex\,  r
 esonant compositions\,  Noelle carries this beautifully idiosyncratic instr
 ument into the 21st century with both style and innovation. Hurdy-gurdy mus
 ic often evokes old roads\,  folk dances\,  and ritual spaces\,  but it can
  also[..]\nhttps://www.franconianotch.org/event-directory/the-art-of-sound-
 death-by-gurdy/
URL:https://www.franconianotch.org/event-directory/the-art-of-sound-death-by-gurdy/
END:VEVENT
END:VCALENDAR