BEGIN:VCALENDAR
VERSION:2.0
PRODID:-//eventon.com NONSGML v1.0//EN
CALSCALE:GREGORIAN
METHOD:PUBLISH
BEGIN:VEVENT
UID:69e9dee5f1177
DTSTAMP:20260423T085709Z
DTSTART:20251127T140000Z
DTEND:20251128T045900Z
LOCATION:Iron Furnace Brewery 115 Main St.
SUMMARY:Wobble n' Gobble 5K
DESCRIPTION:It’s Franconia’s favorite Thanksgiving tradition\,  a fun-f
 illed race that brings our community together before the big feast! Join us
  for the annual Wobble n’ Gobble 5K\,  starting and finishing at the Iron
  Furnace Brewing. Sign up online here and be part of the fun! Let’s celeb
 rate community\,  fitness\,  and a[..]\nhttps://www.franconianotch.org/even
 t-directory/wobble-n-gobble-5k/
URL:https://www.franconianotch.org/event-directory/wobble-n-gobble-5k/
END:VEVENT
END:VCALENDAR